BEGIN:VCALENDAR
VERSION:2.0
PRODID:-//wp-events-plugin.com//7.2.3.1//EN
TZID:Europe/Bucharest
X-WR-TIMEZONE:Europe/Bucharest
BEGIN:VEVENT
UID:4@marriageweek.ro
DTSTART;TZID=Europe/Bucharest:20260124T000000
DTEND;TZID=Europe/Bucharest:20260124T000000
DTSTAMP:20260121T175354Z
URL:https://marriageweek.ro/evenimente/test-2/
SUMMARY:Test 2
DESCRIPTION:zcvfvgafbxb sfv
CATEGORIES:Evenimente
LOCATION:Acolo\, Strada aia\, Bucuresti\, Ilfov\, 555555\, România
X-APPLE-STRUCTURED-LOCATION;VALUE=URI;X-ADDRESS=Strada aia\, Bucuresti\, Il
 fov\, 555555\, România;X-APPLE-RADIUS=100;X-TITLE=Acolo:geo:0,0
END:VEVENT
BEGIN:VTIMEZONE
TZID:Europe/Bucharest
X-LIC-LOCATION:Europe/Bucharest
BEGIN:STANDARD
DTSTART:20251026T030000
TZOFFSETFROM:+0300
TZOFFSETTO:+0200
TZNAME:EET
END:STANDARD
END:VTIMEZONE
END:VCALENDAR